BEGIN:VCALENDAR
VERSION:2.0
PRODID:-//wp-events-plugin.com//7.2.3.1//EN
BEGIN:VEVENT
UID:8@gatewaycollective.co.uk
DTSTART;TZID=Europe/London:20231209T100000
DTEND;TZID=Europe/London:20231209T123000
DTSTAMP:20231023T163556Z
URL:https://gatewaycollective.co.uk/events/wreath-making-north-park-commun
 ity-garden/
SUMMARY:Wreath Making - North Park Community Garden
DESCRIPTION:Join us in in our new kitchen space\, to make your own Christma
 s wreath\,  We will provide all the equipment\, foliage and tuition\, you 
 just need to turn up and get involved.  Festive refreshments provided!
LOCATION:North Park Community Garden and Kitchen\, North Park\, Stanley Roa
 d\, Bootle\, Merseyside\, L20 5HF\, United Kingdom
X-APPLE-STRUCTURED-LOCATION;VALUE=URI;X-ADDRESS=North Park\, Stanley Road\,
  Bootle\, Merseyside\, L20 5HF\, United Kingdom;X-APPLE-RADIUS=100;X-TITLE
 =North Park Community Garden and Kitchen:geo:0,0
END:VEVENT
BEGIN:VTIMEZONE
TZID:Europe/London
X-LIC-LOCATION:Europe/London
BEGIN:STANDARD
DTSTART:20231029T010000
TZOFFSETFROM:+0100
TZOFFSETTO:+0000
TZNAME:GMT
END:STANDARD
END:VTIMEZONE
END:VCALENDAR