BEGIN:VCALENDAR
VERSION:2.0
PRODID:-//wp-events-plugin.com//7.2.3.1//EN
BEGIN:VEVENT
UID:38@gatewaycollective.co.uk
DTSTART:20260430T100000Z
DTEND:20260604T120000Z
DTSTAMP:20260422T133113Z
URL:https://gatewaycollective.co.uk/events/beginners-embroidery/
SUMMARY:Beginners Embroidery
DESCRIPTION:Learn how to create your own beautiful embroidery with the very
  skilled and lovely Nikki!
LOCATION:North Park Community Garden and Kitchen\, North Park\, Stanley Roa
 d\, Bootle\, Merseyside\, L20 5HF\, United Kingdom
X-APPLE-STRUCTURED-LOCATION;VALUE=URI;X-ADDRESS=North Park\, Stanley Road\,
  Bootle\, Merseyside\, L20 5HF\, United Kingdom;X-APPLE-RADIUS=100;X-TITLE
 =North Park Community Garden and Kitchen:geo:0,0
END:VEVENT
END:VCALENDAR